BEGIN:VCALENDAR
VERSION:2.0
PRODID:-//ChamberMaster//Event Calendar 2.0//EN
METHOD:PUBLISH
X-PUBLISHED-TTL:P3D
REFRESH-INTERVAL:P3D
CALSCALE:GREGORIAN
BEGIN:VEVENT
DTSTART:20220310T000000Z
DTEND:20220310T020000Z
X-MICROSOFT-CDO-ALLDAYEVENT:FALSE
SUMMARY:5 O'Clock Connections
DESCRIPTION:There is NOT a 5 O'Clock Connections for the month of March.  Please join us for our Coffee Connections on Wednesday\, March 23!\n\n\n\nMix and mingle with us for lasting referrals\, relationships and resources. \n\n\n\nFollow us on Facebook or sign up for our news letter to keep up on all of our most current events. Call the Chamber at 719-647-9086 with more questions or email us today at news@pwchamber.com!
X-ALT-DESC;FMTTYPE=text/html:There is NOT a 5 O&#39\;Clock Connections for the month of March.&nbsp\; Please join us for our Coffee Connections on Wednesday\, March 23!<br />\n<br />\nMix and mingle with us for lasting referrals\, relationships and resources.&nbsp\;<br />\n<br />\nFollow us on Facebook or sign up for our news letter to keep up on all of our most current events. Call the Chamber at <a href="tel:719-647-9086">719-647-9086</a> with more questions or email us today at news@pwchamber.com!
LOCATION:
UID:e.3019.2267
SEQUENCE:3
DTSTAMP:20260422T204837Z
URL:https://business.pwchamber.com/events/details/5-o-clock-connections-2267
END:VEVENT

END:VCALENDAR
