BEGIN:VCALENDAR
VERSION:2.0
PRODID:-//ChamberMaster//Event Calendar 2.0//EN
METHOD:PUBLISH
X-PUBLISHED-TTL:P3D
REFRESH-INTERVAL:P3D
CALSCALE:GREGORIAN
BEGIN:VEVENT
DTSTART:20260826T230000Z
DTEND:20260827T010000Z
X-MICROSOFT-CDO-ALLDAYEVENT:FALSE
SUMMARY:5 O'clock Connections: Samantha Hardcastle Photography
DESCRIPTION:Mix and mingle to expand your professional relationships and foster potential collaborations!\n\n\n\nFollow us on Facebook or sign up for our newsletter to keep up on all of our most current events. Call the Chamber at 719-647-9086 with more questions or email us today at news@pwchamber.com!
X-ALT-DESC;FMTTYPE=text/html:<div class="x11i5rnm xat24cr x1mh8g0r x1vvkbs xdj266r" style="margin: 0px\; overflow-wrap: break-word\; font-family: &quot\;Segoe UI Historic&quot\;\, &quot\;Segoe UI&quot\;\, Helvetica\, Arial\, sans-serif\; color: rgb(5\, 5\, 5)\; font-size: 15px\; background-color: rgb(255\, 255\, 255)\;">Mix and mingle to expand your professional relationships and foster potential collaborations!<br />\n<br />\nFollow us on Facebook or sign up for our newsletter to keep up on all of our most current events. Call the Chamber at 719-647-9086 with more questions or email us today at news@pwchamber.com!</div>\n
LOCATION:129 E Abriendo Ave Pueblo CO 81004
UID:e.3019.2561
SEQUENCE:3
DTSTAMP:20260420T142006Z
URL:https://business.pwchamber.com/events/details/5-o-clock-connections-samantha-hardcastle-photography-2561
END:VEVENT

END:VCALENDAR
