BEGIN:VCALENDAR
VERSION:2.0
PRODID:-//ChamberMaster//Event Calendar 2.0//EN
METHOD:PUBLISH
X-PUBLISHED-TTL:P3D
REFRESH-INTERVAL:P3D
CALSCALE:GREGORIAN
BEGIN:VEVENT
DTSTART:20220928T134500Z
DTEND:20220928T150000Z
X-MICROSOFT-CDO-ALLDAYEVENT:FALSE
SUMMARY:Coffee Connections @ Habitat for Humanity of Pueblo\, Inc. ReStore
DESCRIPTION:Mix and mingle with us for lasting referrals\, relationships and resources. Join us for refreshments and fun at the Habitat for Humanity of Pueblo\, Inc. ReStore. We look forward to seeing you there!\n\n\n\nFollow us on Facebook or sign up for our news letter to keep up on all of our most current events. Call the Chamber at 719-647-9086 with more questions or email us today at news@pwchamber.com!
X-ALT-DESC;FMTTYPE=text/html:Mix and mingle with us for lasting referrals\, relationships and resources. Join us for refreshments and fun at the Habitat for Humanity of Pueblo\, Inc. ReStore. We look forward to seeing you there!<br />\n<br />\nFollow us on Facebook or sign up for our news letter to keep up on all of our most current events. Call the Chamber at 719-647-9086 with more questions or email us today at news@pwchamber.com!
LOCATION:2313 S Prairie Ave Pueblo\, CO 81005
UID:e.3019.2297
SEQUENCE:3
DTSTAMP:20260421T114848Z
URL:https://business.pwchamber.com/events/details/coffee-connections-habitat-for-humanity-of-pueblo-inc-restore-2297
END:VEVENT

END:VCALENDAR
