BEGIN:VCALENDAR
VERSION:2.0
PRODID:-//ChamberMaster//Event Calendar 2.0//EN
METHOD:PUBLISH
X-PUBLISHED-TTL:P3D
REFRESH-INTERVAL:P3D
CALSCALE:GREGORIAN
BEGIN:VEVENT
DTSTART:20221119T233000Z
DTEND:20221120T033000Z
X-MICROSOFT-CDO-ALLDAYEVENT:FALSE
SUMMARY:Pueblo West Chamber Turns 21 With a Night in Vegas!!!
DESCRIPTION:Join us for our 21st Annual Dinner celebration\, with A Night in Vegas!!!\n\n\n\nChance Drawing Tickets for 3 Day\, 2 Night Stay in Las Vegas (Round Trip Tickets from Colorado Springs) May Be Purchased By Clicking "REGISTER"
X-ALT-DESC;FMTTYPE=text/html:Join us for our 21st Annual Dinner celebration\, with A Night in Vegas!!!<br />\n<br />\n<span style="font-size:22px\;"><strong style="color: rgb(51\, 51\, 51)\; font-family: sans-serif\, Arial\, Verdana\, &quot\;Trebuchet MS&quot\;\; font-size: 13px\;"><span style="color: rgb(255\, 0\, 0)\;">Chance Drawing Tickets for 3 Day\, 2 Night Stay in Las Vegas (Round Trip Tickets from Colorado Springs) May Be Purchased By Clicking &quot\;<a href="https://business.pwchamber.com/events/register/2287">REGISTER</a>&quot\;</span></strong></span>
LOCATION:Colorado State University-Pueblo Occhiato Ballroom
UID:e.3019.2287
SEQUENCE:3
DTSTAMP:20260419T141930Z
URL:https://business.pwchamber.com/events/details/pueblo-west-chamber-turns-21-with-a-night-in-vegas-2287
END:VEVENT

END:VCALENDAR
