BEGIN:VCALENDAR
VERSION:2.0
PRODID:-//ChamberMaster//Event Calendar 2.0//EN
METHOD:PUBLISH
X-PUBLISHED-TTL:P3D
REFRESH-INTERVAL:P3D
CALSCALE:GREGORIAN
BEGIN:VEVENT
DTSTART:20230518T210000Z
DTEND:20230518T220000Z
X-MICROSOFT-CDO-ALLDAYEVENT:FALSE
SUMMARY:Ribbon Cutting: C&D Detailing
DESCRIPTION:Come check out our new shop and help us celebrate with a ribbon cutting!
X-ALT-DESC;FMTTYPE=text/html:Come check out our new shop and help us celebrate with a ribbon cutting!
LOCATION:
UID:e.3019.2387
SEQUENCE:3
DTSTAMP:20260420T171523Z
URL:https://business.pwchamber.com/events/details/ribbon-cutting-c-d-detailing-2387
END:VEVENT

END:VCALENDAR
